BEGIN:VCALENDAR
VERSION:2.0
PRODID:-//Brf FlemmingKronan - ECPv5.2.1//NONSGML v1.0//EN
CALSCALE:GREGORIAN
METHOD:PUBLISH
X-WR-CALNAME:Brf FlemmingKronan
X-ORIGINAL-URL:https://flemmingkronan.hsbbrfwebb.se
X-WR-CALDESC:Events for Brf FlemmingKronan
BEGIN:VTIMEZONE
TZID:Europe/Paris
BEGIN:DAYLIGHT
TZOFFSETFROM:+0100
TZOFFSETTO:+0200
TZNAME:CEST
DTSTART:20250330T010000
END:DAYLIGHT
BEGIN:STANDARD
TZOFFSETFROM:+0200
TZOFFSETTO:+0100
TZNAME:CET
DTSTART:20251026T010000
END:STANDARD
END:VTIMEZONE
BEGIN:VEVENT
DTSTART;TZID=Europe/Paris:20250801T180000
DTEND;TZID=Europe/Paris:20250801T220000
DTSTAMP:20260420T142840
CREATED:20250730T124725Z
LAST-MODIFIED:20250730T124725Z
UID:2276-1754071200-1754085600@flemmingkronan.hsbbrfwebb.se
SUMMARY:Trädgårdsfest!  .  Fredag 1 augusti kl. 18:00
DESCRIPTION:2025-07-30 \n\n\n🌞 Sommaren är här och det firar vi med Trädgårdsfest! 🌿🎉📅 Fredag 1 augusti kl. 18:00📍 BRF Flemmingkronans innergård \nTa med egen mat och dryck. Föreningen fixar grillkolen för dig som vill grilla. 🌭🍔 \n🎵 Vill du ta med ett spel\, musik eller något annat kul? Kör på! Ju fler som bidrar\, desto härligare blir kvällen. \nDet här är en chans att lära känna dina grannar\, njuta av sommaren tillsammans och skapa minnen under bar himmel. ☀️🌸 \nTa med en filt\, ett glatt humör och kom och fira sommarkvällen med oss! \nVarmt välkommen! 💛/Styrelsen
URL:https://flemmingkronan.hsbbrfwebb.se/evenemang/tradgardsfest-fredag-1-augusti-kl-1800/
LOCATION:Flemming gatan 12\, BRF Flemmingkronans innergård\, Helsingborg\, Skåne\, 25439\, Sweden
END:VEVENT
END:VCALENDAR